BEGIN:VCALENDAR
VERSION:2.0
PRODID:-//Studio Zin - taijiquan - qigong - ademwerk - meditatie - klankreizen - ECPv6.15.20//NONSGML v1.0//EN
CALSCALE:GREGORIAN
METHOD:PUBLISH
X-WR-CALNAME:Studio Zin - taijiquan - qigong - ademwerk - meditatie - klankreizen
X-ORIGINAL-URL:https://studio-zin.nl
X-WR-CALDESC:Evenementen voor Studio Zin - taijiquan - qigong - ademwerk - meditatie - klankreizen
REFRESH-INTERVAL;VALUE=DURATION:PT1H
X-Robots-Tag:noindex
X-PUBLISHED-TTL:PT1H
BEGIN:VTIMEZONE
TZID:UTC
BEGIN:STANDARD
TZOFFSETFROM:+0000
TZOFFSETTO:+0000
TZNAME:UTC
DTSTART:20250101T000000
END:STANDARD
END:VTIMEZONE
BEGIN:VEVENT
DTSTART;TZID=UTC:20261121T100000
DTEND;TZID=UTC:20261121T150000
DTSTAMP:20260420T164139
CREATED:20260129T115413Z
LAST-MODIFIED:20260324T071833Z
UID:2133-1795255200-1795273200@studio-zin.nl
SUMMARY:Taiji Martial day met Eli Montaigue
DESCRIPTION:In 2026 is Eli Montaigue weer tweemaal met workshop in Nieuwegein\, waaronder op deze Taiji Martial Day. En dat blijft bijzonder. Eli is een geweldige leraar en voor iedereen die Taiji beoefent is dit een kans om te leren van iemand met zo’n hoog niveau. Of je nu beginner bent of gevorderd. Eli is heel toegankelijk en geeft je aanwijzingen op je eigen niveau. De voertaal is Engels. \nDe workshop bestaat uit twee dagen\, zaterdag en zondag\, die afzonderlijk geboekt kunnen worden. Zaterdag is traditioneel Taiji Martial Day. Op zondag staat de Taiji-vorm centraal. \nProgramma zaterdag\nWe starten met Martial day. Eli  Montaigue is meester in de Taiji als krijgskunst. De krijgskunst is hem met de paplepel ingegoten. Als kind van vier zette hij al zijn eerste stappen op dit pad. \nWelke martial arts je ook beoefent\, kennis van het Taiji-systeem helpt om snelheid\, precisie en daarmee effectiviteit te vergroten. Wat kun je op deze Taiji Martial Day verwachten: een selectie trainingsmethodieken uit pushing hands\, san sau\, chee sau\, dim mak en fahjingtraining. Per workshop zal de invulling verschillen. \nWelke methodiek je ook doet\, steeds wordt duidelijk dat de onderliggende principes hetzelfde zijn. Pushing hands is een mooie manier om dit te voelen. En het eigen te maken. Wanneer je pushing hands verbetert\, ga je ook de andere methodieken beter begrijpen en uitvoeren. Als je de maniér van bewegen in de Taiji begrijpt\, kun je die toepassen in je eigen martiale technieken. Je zult sneller worden en minder energie verspillen. \nChee sau is ook zo’n basismethodiek\, waarbij de nadruk ligt op het voelen van en meebewegen met de ander. Wanneer er ruimte ontstaat buig je de beweging om in je eigen voordeel. \nExpliciet dus geen Taiji-vorm (die komt op zondag aan bod). Op deze dag gaat het om het toepassen van de technieken uit de Taiji. Dat maakt deze workshop geschikt voor iedereen die een vorm van Martial Arts beoefent. \nVoor iedereen die Taiji beoefent is deze workshop waardevol omdat je leert voelen wat je in de vorm langzaam uitvoert. Daarmee zal ook de uitvoering van je vorm veranderen. Je hoeft geen echte krijgskunstenaar te zijn om deze workshop mee te doen\, maar dat mag natuurlijk wel. Alle niveau’s trainen door en met elkaar. \nDetails\nDatum: zaterdag 21 maart (je kunt je ook voor het hele weekend aanmelden)Tijd: 10:00 – 15:00uKosten: zie hieronder \nEén dag:€65 First timer training with Eli€80 WTBA Active Member en alle cursisten van Studio Zin€85 Niet-leden \nBeide workshops (zaterdag én zondag):€115 First timer training with Eli€140 Active Members price en alle cursisten van Studio Zin€155 Niet-leden \nLocatie: Montessorischool De Vleugel\, Mozartplantsoen 1\, Nieuwegein \n\n\nBoek mijn ticket\n\n\n\nNieuwsgierig?\n\n\n\nBekijk hieronder de video’s van eerdere workshop:
URL:https://studio-zin.nl/event/taiji-martial-day-met-eli-montaigue/
ATTACH;FMTTYPE=image/jpeg:https://studio-zin.nl/wp-content/uploads/2026/01/Eli-Montaigue.jpg
ORGANIZER;CN="Studio Zin":MAILTO:info@studio-zin.nl
END:VEVENT
BEGIN:VEVENT
DTSTART;TZID=UTC:20261122T100000
DTEND;TZID=UTC:20261122T150000
DTSTAMP:20260420T164139
CREATED:20260129T115948Z
LAST-MODIFIED:20260324T071331Z
UID:2135-1795341600-1795359600@studio-zin.nl
SUMMARY:Traditionele Yangstijl Taiji met Eli Montaigue
DESCRIPTION:Ook in 2026 zijn er weer workshops met Eli Montaigue in Nieuwegein. En dat blijft bijzonder. Eli is een geweldige leraar en voor iedereen die Taiji beoefent is dit een kans om te leren van iemand met zo’n hoog niveau. Of je nu beginner bent of gevorderd. Eli is heel toegankelijk en geeft je aanwijzingen op je eigen niveau. De voertaal is Engels. \nDe workshop bestaat uit twee dagen\, zaterdag en zondag\,  die afzonderlijk geboekt kunnen worden. Zaterdag is traditioneel Taiji Martial Day. Op zondag staat de Taiji-vorm (incl. Qigong) centraal. \nZondag: Traditionele Yangstijl Taijiquan\n[programma volgt nog\, hieronder als voorbeeld het programma van maart 2026] De meeste mensen komen nooit verder dan de fysieke bewegingen van Taiji. De weg naar de interne kant van Taiji is omvangrijk; er valt op dit gebied veel te leren. Om taiji als geheel te begrijpen is het enorm belangrijk om hier ook aandacht aan te besteden. Tijdens deze workshop zal Eli je meenemen in verschillende trainingsmethoden die je helpen in contact te komen met juist de interne kant van de Taiji-vorm. \nEr is aandacht voor ademhalingsoefeningen die je beweging verbinden met die superzachte\, vriendelijke yin-energie\, maar ook ademhalingstechnieken die je helpen contact te maken met de vurige\, krachtige yang-kant. Het begrijpen en ontwikkelen van beide aspecten is essentieel voor een evenwichtige Taiji-beoefening; wanneer je je slechts op één van de twee richt\, raak je uit balans. \nDaarnaast is er een ruimte voor het toepassen van Qigong op een ander\, wat bekend staat als medische Qigong of energetische healing. \nIedereen die Taiji beoefent kan mee doen aan deze workshop. Of je nu al lang Taiji doet of kort\, Eli geeft je aanwijzingen op jouw eigen niveau. We trainen met elkaar\, alle niveaus door elkaar. We pakken bewegingen uit de vorm en verdiepen deze. \nDetails\nDatum: zondag 22 maart (je kunt je ook voor het hele weekend aanmelden)Tijd: 10:00 – 15:00uKosten: zie hieronder \n€65 First timer training with Eli€80 WTBA Active Member en alle cursisten van Studio Zin€85 Niet-leden \nBeide workshops (zaterdag én zondag)€115 First timer training with Eli€140 Active Members price en alle cursisten van Studio Zin€155 Niet-leden \nLocatie: Montessorischool De Vleugel\, Mozartplantsoen 1\, NieuwegeinAanmelden: info@studio-zin.nl \n\n\n\nBoek mijn ticket\n\n\n\n\nNieuwsgierig?\n\n\n\nBekijk hieronder de video’s van eerdere workshops.
URL:https://studio-zin.nl/event/traditionele-yangstijl-taiji-met-eli-montaigue/
ATTACH;FMTTYPE=image/jpeg:https://studio-zin.nl/wp-content/uploads/2026/01/Eli-Montaigue-yangstijl-web.jpg
ORGANIZER;CN="Studio Zin":MAILTO:info@studio-zin.nl
END:VEVENT
END:VCALENDAR