BEGIN:VCALENDAR
VERSION:2.0
PRODID:-//Studio Zin - taijiquan - qigong - ademwerk - meditatie - klankreizen - ECPv6.15.20//NONSGML v1.0//EN
CALSCALE:GREGORIAN
METHOD:PUBLISH
X-WR-CALNAME:Studio Zin - taijiquan - qigong - ademwerk - meditatie - klankreizen
X-ORIGINAL-URL:https://studio-zin.nl
X-WR-CALDESC:Evenementen voor Studio Zin - taijiquan - qigong - ademwerk - meditatie - klankreizen
REFRESH-INTERVAL;VALUE=DURATION:PT1H
X-Robots-Tag:noindex
X-PUBLISHED-TTL:PT1H
BEGIN:VTIMEZONE
TZID:UTC
BEGIN:STANDARD
TZOFFSETFROM:+0000
TZOFFSETTO:+0000
TZNAME:UTC
DTSTART:20250101T000000
END:STANDARD
END:VTIMEZONE
BEGIN:VEVENT
DTSTART;TZID=UTC:20260304T153000
DTEND;TZID=UTC:20260304T170000
DTSTAMP:20260420T094458
CREATED:20260127T143608Z
LAST-MODIFIED:20260211T160907Z
UID:1750-1772638200-1772643600@studio-zin.nl
SUMMARY:Soundhealing XL
DESCRIPTION:Een extra lange soundhealing om jezelf helemaal in te laten landen. Klank brengt je dichter bij jezelf\, laat je weer herinneren wie je daadwerkelijk diep van binnen bent. Daarmee ondersteunt klank jouw helingsproces\, maar is het ook weldadig om te ondergaan en kan je in een diepe ontspanning brengen. \nElke klankschaal (en ander instrument) heeft haar unieke trilling. Het lichaam gaat meetrillen met de krachtige trillingen. Dat is klank eigen. Klank zoekt altijd naar harmonie. Iets wat Christiaan Huygens\, al ontdekte in de 17e eeuw. Hij plaatste twee slingeruurwerken naast elkaar en merkte op dat ze na verloop van tijd in hetzelfde ritme gingen slingeren. Als de frequentie van twee golven\, twee klanken dus\, dicht bij elkaar in de buurt ligt\, trekken ze steeds dichter naar elkaar toe en resoneren uiteindelijk als één klank. Zo brengt klank vanzelf orde aan. \nAls het lichaam uit disbalans is door stress\, slechte voeding\, teveel prikkels\, …. verliest het haar unieke eigen frequentie. Door mee te trillen kan het ware weer herinnerd worden aan de eigen frequentie. De klankschaal nodigt de cellen als het ware uit om weer de lichaamseigen trilling op te pakken. \nTijdens een klankbad ben je omringt door klankschalen en andere instrumenten die allemaal trillen\, dus golven uitzenden. Klankschalen produceren vaak alfagolven. Dit zijn golven die onze hersenen produceren als we kalm en ontspannen zijn of in een meditatieve staat. Dat kun je goed voelen. Je voelt je lichaam helemaal vibreren als de trilling door je heen stroomt. Jij bestaat voor 80% uit water en dat water wordt in trilling gebracht. Water geleidt trilling erg goed en zo verplaatsen de trillingen van de klankschalen zich razendsnel en makkelijk door je lichaam. \nDit mag je allemaal zelf ervaren tijden deze Soundhealing XL. \nWat kun je verwachten?\nAls je binnenkomt staat er een kop thee voor je klaar en kun je je installeren op een matje. Van daaruit wordt je langzaam meegenomen naar de soundhealing\, word je uitgenodigd om helemaal te landen in jezelf en je mee te laten voeren op de klanken. Na afloop is er nog ruimte om even bij te komen met een kop thee en wat lekkers. \nDetails\nDatum: woensdag 4 maartTijd: 15:30 – 17:00Locatie: Nieuwegein (precieze locatie volgt na inschrijving)Meer informatie: info@studio-zin.nl \n\n\n\n\nBoek mijn ticket
URL:https://studio-zin.nl/event/soundhealing-xl/
ATTACH;FMTTYPE=image/jpeg:https://studio-zin.nl/wp-content/uploads/2026/01/Klankreizen-klankbad-soundhealing.jpg
ORGANIZER;CN="Studio Zin":MAILTO:info@studio-zin.nl
END:VEVENT
BEGIN:VEVENT
DTSTART;TZID=UTC:20260308T130000
DTEND;TZID=UTC:20260308T153000
DTSTAMP:20260420T094458
CREATED:20260204T150926Z
LAST-MODIFIED:20260209T154719Z
UID:2770-1772974800-1772983800@studio-zin.nl
SUMMARY:De innerlijke kracht van taiji
DESCRIPTION:Ontdek de plek waar Yin en Yang samensmelten. Daar waar het zachte het stevige ontmoet\, ontstaat een ongekende bron van kracht: jouw innerlijke kracht. In Taiji bestaat het één nooit zonder het ander. Het is een voortdurend samenspel tussen overgave en structuur\, tussen rust en beweging. Tijdens deze verdiepende workshop bij Studio Zin gaan we voorbij de buitenkant van de vorm en duiken we in de essentie van de beweging. \nWat gaan we ontdekken?\nWe onderzoeken deze middag het fascinerende mechanisme van het lichaam: hoe ontstaat beweging in de kern en hoe reist deze door je hele systeem om uiteindelijk tot uitdrukking te komen in je handen? Je leert hoe je niet vanuit spierkracht\, maar vanuit eenheid beweegt. Wanneer je lichaam als één geheel samenwerkt\, wordt beweging moeiteloos\, krachtig en levend. Dan kan er ineens een grote kracht ontstaan. \nWat we gaan doen\nInteractie & Spiegeling: we werken in tweetallen om de principes van actie en reactie direct te ervaren. Door de weerstand of zachtheid van de ander leer je jouw eigen balans beter begrijpen. Verdieping van de vorm: we passen de inzichten toe op bewegingen uit de Taiji-vorm\, zodat de theorie direct overgaat in jouw eigen fysieke ervaring. \nFocus op de Kern: Je leert hoe je jouw fundament (het stevige) kunt behouden terwijl je bovenlichaam en handen zacht en ontvankelijk blijven. \nVoor wie?\nDeze workshop is voor iedereen die de diepere lagen van Taiji wil verkennen. Of je nu al langer traint of de kracht van energetisch bewegen voor het eerst wilt ervaren: je bent welkom om te komen ontdekken hoe innerlijke eenheid voelt. \nTussen het trainen door\, is er natuurlijk tijd voor een pauze en een kopje thee. Draag makkelijk zittende kleding en schoenen met dunne zolen (of blote voeten/sokken). \nStap in de cirkel van Yin en Yang en ervaar hoe jouw innerlijke kracht tot leven komt. \n\n\n\n\n\nBoek mijn ticket
URL:https://studio-zin.nl/event/de-innerlijke-kracht-van-taiji/
ATTACH;FMTTYPE=image/jpeg:https://studio-zin.nl/wp-content/uploads/2026/01/Parallax-website.jpg
ORGANIZER;CN="Studio Zin":MAILTO:info@studio-zin.nl
END:VEVENT
END:VCALENDAR