BEGIN:VCALENDAR
VERSION:2.0
PRODID:-//Studio Zin - taijiquan - qigong - ademwerk - meditatie - klankreizen - ECPv6.15.20//NONSGML v1.0//EN
CALSCALE:GREGORIAN
METHOD:PUBLISH
X-WR-CALNAME:Studio Zin - taijiquan - qigong - ademwerk - meditatie - klankreizen
X-ORIGINAL-URL:https://studio-zin.nl
X-WR-CALDESC:Evenementen voor Studio Zin - taijiquan - qigong - ademwerk - meditatie - klankreizen
REFRESH-INTERVAL;VALUE=DURATION:PT1H
X-Robots-Tag:noindex
X-PUBLISHED-TTL:PT1H
BEGIN:VTIMEZONE
TZID:UTC
BEGIN:STANDARD
TZOFFSETFROM:+0000
TZOFFSETTO:+0000
TZNAME:UTC
DTSTART:20250101T000000
END:STANDARD
END:VTIMEZONE
BEGIN:VEVENT
DTSTART;TZID=UTC:20260627T040000
DTEND;TZID=UTC:20260627T163000
DTSTAMP:20260420T110559
CREATED:20260209T153942Z
LAST-MODIFIED:20260209T154547Z
UID:2906-1782532800-1782577800@studio-zin.nl
SUMMARY:Ademcirkel Omarm de Zomer met Klankreis
DESCRIPTION:Terwijl de natuur buiten op haar hoogtepunt is\, nodigen we jou uit om jouw innerlijke vuur en levensenergie de ruimte te geven. Kom thuis in je lichaam tijdens een intieme ademreis in een veilige\, huiselijke bedding. \nJuni is de maand van de zomerzonnewende; de tijd waarin alles voluit leeft en straalt. Wist je dat we dagelijks ruim 20.000 keer ademen zonder erbij na te denken? Toch is de adem de meest directe verbinding met je zenuwstelsel en je onderbewuste. Je adem vertelt het verhaal van hoe je in het leven staat: waar je de ruimte neemt om te stromen en waar je jezelf onbewust nog inhoudt. \nTijdens deze ademcirkel bij Studio Zin nodigen we je uit om de regie even los te laten en je over te geven aan de overvloed van het moment. Laat je adem de zomerse bries zijn die alles in beweging zet. \nWat is Verbonden Ademen?Een ademcirkel is een liefdevolle reis naar binnen. Tijdens het actieve deel van de sessie (ca. 30-40 minuten) gebruiken we de techniek van de bewust verbonden adem. Hierbij laten we de pauzes tussen de in- en uitademing weg\, waardoor er een continue ademstroom ontstaat. \nDeze techniek brengt je uit je hoofd en dieper in je lichaam. Vastgezette emoties\, oude patronen of fysieke spanningen die je onbewust met je meedraagt\, kunnen door de adem in beweging worden gebracht om in een veilige bedding gezien\, doorvoeld en losgelaten te worden. Wat ontstaat is ruimte\, helderheid en een diep gevoel van bevrijding. Je maakt letterlijk schoon schip om voluit te kunnen genieten van het nieuwe seizoen. \nDe Magie van Soundhealing\nDe ademreis vloeit naadloos over in een diepe integratiefase met klank. Terwijl jij in totale overgave ligt\, word je omringd door de helende vibraties van o.a. kristallen en bronzen klankschalen\, gongs\, de handpan en de oceandrum. \nOmdat je lichaam voor het grootste deel uit water bestaat\, werken deze trillingen als een innerlijke massage op celniveau. De klanken helpen je hersenen om af te stemmen op een staat van diepe rust waarin herstel en heling op natuurlijke wijze plaatsvinden. Het is een moment om alle indrukken van de ademsessie zacht te laten landen. \nWaarom kiezen voor Studio Zin\nIk geloof dat transformatie ontstaat waar jij je veilig voelt. Daarom werken we in een kleine\, intieme setting van 4 tot 6 deelnemers. \nPersoonlijk & Veilig: Je krijgt alle ruimte en aandacht die nodig is voor jouw proces. \nHuiselijke sfeer: Een warme\, liefdevolle plek waar je direct mag aankomen bij jezelf. \nBegeleiding: Als facilitator ben ik volledig aanwezig om je te ondersteunen in jouw ademavontuur. Je bent welkom met alles wat er op dat moment is. \nVoor wie: voor iedereen die verlangt naar meer ruimte\, rust of een frisse start in zichzelf. Ervaring is niet nodig. \nHet programma\nOntvangst & Landen: We openen de cirkel met een zachte meditatie en de heldere klanken van de handpan. \nIntentie & Uitleg: We staan stil bij wat jij deze lente wilt laten stromen en ik leg de ademtechniek uit. \nDe Ademreis: De verbonden ademsessie waarin we samen de diepte opzoeken. \nDe Klankreis: Een uitgebreide soundhealing voor integratie en diepe ontspanning. \nAfronding: Rustig terugkomen met thee en iets lekkers. Er is ruimte om na te voelen en te delen in de lichte energie van de namiddag. \nPraktische Informatie\nMeenemen: Draag comfortabele kleding (laagjes zijn fijn). Matjes\, kussens en dekens liggen klaar. Neem gerust je eigen warme sokken of een vertrouwde sjaal mee voor extra comfort. \nGun jezelf dit moment van vertraging midden in de bruisende zomer. Je bent heel welkom om te komen landen\, precies zoals je bent. \nVeiligheid & Contra-indicaties\nIn sommige situaties is een klankreis of intensief ademwerk (nu) niet geschikt. Het is belangrijk dat je jezelf kunt dragen. Als je twijfelt\, neem gerust even contact op.• Lees meer over contra-indicaties van de klankreis.• Na inschrijving ontvang je per mail een document over veiligheid bij ademwerk. Lees dit vooraf goed door. Je kunt de informatie ook hier alvast bekijken. \n\n\nBoek mijn ticket
URL:https://studio-zin.nl/event/ademcirkel-omarm-de-zomer-met-klankreis/
ATTACH;FMTTYPE=image/jpeg:https://studio-zin.nl/wp-content/uploads/2026/02/Adencirkel-breathwork-verbonden-ademen.jpg
ORGANIZER;CN="Studio Zin":MAILTO:info@studio-zin.nl
END:VEVENT
END:VCALENDAR